BEGIN:VCALENDAR
VERSION:2.0
PRODID:spatie/icalendar-generator
DESCRIPTION:Events from Bollington 16th Walking Festival
X-WR-CALDESC:Events from Bollington 16th Walking Festival
REFRESH-INTERVAL;VALUE=DURATION:PT1440M
X-PUBLISHED-TTL:PT1440M
BEGIN:VTIMEZONE
TZID:Europe/London
BEGIN:DAYLIGHT
DTSTART:20250330T010000Z
TZOFFSETFROM:+0000
TZOFFSETTO:+0100
END:DAYLIGHT
BEGIN:STANDARD
DTSTART:20251026T020000Z
TZOFFSETFROM:+0100
TZOFFSETTO:+0000
END:STANDARD
END:VTIMEZONE
BEGIN:VTIMEZONE
TZID:UTC
BEGIN:STANDARD
DTSTART:20250725T082808Z
TZOFFSETFROM:+0000
TZOFFSETTO:+0000
END:STANDARD
END:VTIMEZONE
BEGIN:VEVENT
UID:28-24
DTSTAMP:20260421T082808Z
SUMMARY:Kerridge Ridge and Ingersley Vale (5 miles Energetic)
LOCATION:The Poachers Inn 95 Ingersley Road    SK10 5RE
ORGANIZER;CN=admin:MAILTO:contact@bollingtonwalkingfestival.co.uk
DTSTART;TZID=Europe/London:20250910T140000
DTEND;TZID=Europe/London:20250910T150000
X-ALT-DESC;FMTTYPE=TEXT/HTML:Walk highlighting the activities of the KRIV v
 olunteer group taking in White Nancy\, Kerridge Ridge to Rainow and back v
 ia Savio House. Organised by KRIV. What3Words: matter.grab.bends
CATEGORIES:Walk
URL;VALUE=URI:https://bollingtonwalkingfestival.co.uk/walks/?contest=galler
 y&#038;mc_id=28&#038;vcal=28
METHOD:PUBLISH
END:VEVENT
END:VCALENDAR