BEGIN:VCALENDAR
VERSION:2.0
PRODID:spatie/icalendar-generator
DESCRIPTION:Events from Bollington 16th Walking Festival
X-WR-CALDESC:Events from Bollington 16th Walking Festival
REFRESH-INTERVAL;VALUE=DURATION:PT1440M
X-PUBLISHED-TTL:PT1440M
BEGIN:VTIMEZONE
TZID:Europe/London
BEGIN:DAYLIGHT
DTSTART:20250330T010000Z
TZOFFSETFROM:+0000
TZOFFSETTO:+0100
END:DAYLIGHT
BEGIN:STANDARD
DTSTART:20251026T020000Z
TZOFFSETFROM:+0100
TZOFFSETTO:+0000
END:STANDARD
END:VTIMEZONE
BEGIN:VTIMEZONE
TZID:UTC
BEGIN:STANDARD
DTSTART:20250725T113422Z
TZOFFSETFROM:+0000
TZOFFSETTO:+0000
END:STANDARD
END:VTIMEZONE
BEGIN:VEVENT
UID:12-8
DTSTAMP:20260421T113422Z
SUMMARY:Canitrek taster (5.5 miles Moderate)
LOCATION:Adlington Road car park Adlington Road    SK10 5JT
ORGANIZER;CN=admin:MAILTO:contact@bollingtonwalkingfestival.co.uk
DTSTART;TZID=Europe/London:20250907T100000
DTEND;TZID=Europe/London:20250907T110000
X-ALT-DESC;FMTTYPE=TEXT/HTML:Try the unique activity of Canitrekking\, a fu
 n\, active way to explore the outdoors with your dog\, where you and your 
 canine companion are harnessed together for a shared hands-free hiking exp
 erience. All equipment hire\, and coaching included. Booking essential in 
 advance with jules@noseandpawsactive.co.uk Cost £10. Organised by Nose an
 d Paws Active. What3Words: gamer.slowness.tastings
CATEGORIES:Walk
URL;VALUE=URI:https://bollingtonwalkingfestival.co.uk/walks/?mc_id=12&#038;
 vcal=12
METHOD:PUBLISH
END:VEVENT
END:VCALENDAR