BEGIN:VCALENDAR
VERSION:2.0
PRODID:spatie/icalendar-generator
DESCRIPTION:Events from Bollington 16th Walking Festival
X-WR-CALDESC:Events from Bollington 16th Walking Festival
REFRESH-INTERVAL;VALUE=DURATION:PT1440M
X-PUBLISHED-TTL:PT1440M
BEGIN:VTIMEZONE
TZID:Europe/London
BEGIN:DAYLIGHT
DTSTART:20250330T010000Z
TZOFFSETFROM:+0000
TZOFFSETTO:+0100
END:DAYLIGHT
BEGIN:STANDARD
DTSTART:20251026T020000Z
TZOFFSETFROM:+0100
TZOFFSETTO:+0000
END:STANDARD
END:VTIMEZONE
BEGIN:VTIMEZONE
TZID:UTC
BEGIN:STANDARD
DTSTART:20250725T094236Z
TZOFFSETFROM:+0000
TZOFFSETTO:+0000
END:STANDARD
END:VTIMEZONE
BEGIN:VEVENT
UID:16-12
DTSTAMP:20260421T094236Z
SUMMARY:Walk for health (2 miles Easy)
LOCATION:Holehouse Lane car park Whiteley Green    SK10 5SR
ORGANIZER;CN=admin:MAILTO:contact@bollingtonwalkingfestival.co.uk
DTSTART;TZID=Europe/London:20250908T101500
DTEND;TZID=Europe/London:20250908T111500
X-ALT-DESC;FMTTYPE=TEXT/HTML:Short guided stroll aimed at those who want to
  get into walking or return to walking. This mostly level route has no sti
 les and takes in a loop of the canal and Middlewood Way towards Whiteley G
 reen. Cost £2. Organised by Bridgend Centre. What3Words: cashiers.keeps.b
 ackward
CATEGORIES:Walk
URL;VALUE=URI:https://bollingtonwalkingfestival.co.uk/walks/?mc_id=16&#038;
 vcal=16
METHOD:PUBLISH
END:VEVENT
END:VCALENDAR