BEGIN:VCALENDAR
VERSION:2.0
PRODID:spatie/icalendar-generator
DESCRIPTION:Events from Bollington 16th Walking Festival
X-WR-CALDESC:Events from Bollington 16th Walking Festival
REFRESH-INTERVAL;VALUE=DURATION:PT1440M
X-PUBLISHED-TTL:PT1440M
BEGIN:VTIMEZONE
TZID:Europe/London
BEGIN:DAYLIGHT
DTSTART:20250330T010000Z
TZOFFSETFROM:+0000
TZOFFSETTO:+0100
END:DAYLIGHT
BEGIN:STANDARD
DTSTART:20251026T020000Z
TZOFFSETFROM:+0100
TZOFFSETTO:+0000
END:STANDARD
END:VTIMEZONE
BEGIN:VTIMEZONE
TZID:UTC
BEGIN:STANDARD
DTSTART:20250725T082331Z
TZOFFSETFROM:+0000
TZOFFSETTO:+0000
END:STANDARD
END:VTIMEZONE
BEGIN:VEVENT
UID:24-20
DTSTAMP:20260421T082331Z
SUMMARY:Spunch (3 miles Moderate)
LOCATION:The Vale Inn 29-31 Adlington Rd    SK10 5JT
ORGANIZER;CN=admin:MAILTO:contact@bollingtonwalkingfestival.co.uk
DTSTART;TZID=Europe/London:20250909T170000
DTEND;TZID=Europe/London:20250909T180000
X-ALT-DESC;FMTTYPE=TEXT/HTML:Sporty treasure hunt suitable for all - if you
  like maps and you like being outdoors then you will love Spunch! Collect 
 as many checkpoints as you can over a 60/90/120 minute course. Walk or run
 . Go solo\, pair or group. Great for families and friends to do together. 
 All info and essential booking here &amp;hellip\;
CATEGORIES:Walk
URL;VALUE=URI:https://bollingtonwalkingfestival.co.uk/walks/?mc_id=24&#038;
 vcal=24
METHOD:PUBLISH
END:VEVENT
END:VCALENDAR