BEGIN:VCALENDAR
VERSION:2.0
PRODID:spatie/icalendar-generator
DESCRIPTION:Events from Bollington 16th Walking Festival
X-WR-CALDESC:Events from Bollington 16th Walking Festival
REFRESH-INTERVAL;VALUE=DURATION:PT1440M
X-PUBLISHED-TTL:PT1440M
BEGIN:VTIMEZONE
TZID:Europe/London
BEGIN:DAYLIGHT
DTSTART:20250330T010000Z
TZOFFSETFROM:+0000
TZOFFSETTO:+0100
END:DAYLIGHT
BEGIN:STANDARD
DTSTART:20251026T020000Z
TZOFFSETFROM:+0100
TZOFFSETTO:+0000
END:STANDARD
END:VTIMEZONE
BEGIN:VTIMEZONE
TZID:UTC
BEGIN:STANDARD
DTSTART:20250725T115305Z
TZOFFSETFROM:+0000
TZOFFSETTO:+0000
END:STANDARD
END:VTIMEZONE
BEGIN:VEVENT
UID:31-27
DTSTAMP:20260421T115305Z
SUMMARY:BDP Care Community walk (3 miles Easy)
LOCATION:Bridgend Centre 104 Palmerston Street    SK10 5PW
ORGANIZER;CN=admin:MAILTO:contact@bollingtonwalkingfestival.co.uk
DTSTART;TZID=Europe/London:20250911T110000
DTEND;TZID=Europe/London:20250911T120000
X-ALT-DESC;FMTTYPE=TEXT/HTML:Find out about your local Bollington\, Disley 
 and Poynton Care Partnership on this gentle walk exploring the canal\, tra
 nquil Tinkers Clough and the Middlewood Way. Organised by BDP Care Communi
 ty. What3Words: acclaim.uplifting.deflation
CATEGORIES:Walk
URL;VALUE=URI:https://bollingtonwalkingfestival.co.uk/walks/?mc_id=31&#038;
 vcal=31
METHOD:PUBLISH
END:VEVENT
END:VCALENDAR