BEGIN:VCALENDAR
VERSION:2.0
PRODID:spatie/icalendar-generator
DESCRIPTION:Events from Bollington 16th Walking Festival
X-WR-CALDESC:Events from Bollington 16th Walking Festival
REFRESH-INTERVAL;VALUE=DURATION:PT1440M
X-PUBLISHED-TTL:PT1440M
BEGIN:VTIMEZONE
TZID:Europe/London
BEGIN:DAYLIGHT
DTSTART:20250330T010000Z
TZOFFSETFROM:+0000
TZOFFSETTO:+0100
END:DAYLIGHT
BEGIN:STANDARD
DTSTART:20251026T020000Z
TZOFFSETFROM:+0100
TZOFFSETTO:+0000
END:STANDARD
END:VTIMEZONE
BEGIN:VTIMEZONE
TZID:UTC
BEGIN:STANDARD
DTSTART:20250725T113625Z
TZOFFSETFROM:+0000
TZOFFSETTO:+0000
END:STANDARD
END:VTIMEZONE
BEGIN:VEVENT
UID:39-35
DTSTAMP:20260421T113625Z
SUMMARY:Café in Poynton (5 miles Moderate)
LOCATION:Bridgend Centre 104 Palmerston Street    SK10 5PW
ORGANIZER;CN=admin:MAILTO:contact@bollingtonwalkingfestival.co.uk
DTSTART;TZID=Europe/London:20250912T133000
DTEND;TZID=Europe/London:20250912T143000
X-ALT-DESC;FMTTYPE=TEXT/HTML:Catch 391 bus (£3 extra) to a café in Poynto
 n for coffee and cake. Flat walk back over the fields arriving back around
  5:30pm. Cost £3. Organised by Bridgend Centre. What3Words: acclaim.uplif
 ting.deflation
CATEGORIES:Walk
URL;VALUE=URI:https://bollingtonwalkingfestival.co.uk/walks/?mc_id=39&#038;
 vcal=39
METHOD:PUBLISH
END:VEVENT
END:VCALENDAR